BEGIN:VCALENDAR
VERSION:2.0
PRODID:-//Heritage Park - ECPv6.1.3//NONSGML v1.0//EN
CALSCALE:GREGORIAN
METHOD:PUBLISH
X-WR-CALNAME:Heritage Park
X-ORIGINAL-URL:https://heritageparkmuenstertx.com
X-WR-CALDESC:Events for Heritage Park
REFRESH-INTERVAL;VALUE=DURATION:PT1H
X-Robots-Tag:noindex
X-PUBLISHED-TTL:PT1H
BEGIN:VTIMEZONE
TZID:America/Chicago
BEGIN:DAYLIGHT
TZOFFSETFROM:-0600
TZOFFSETTO:-0500
TZNAME:CDT
DTSTART:20260308T080000
END:DAYLIGHT
BEGIN:STANDARD
TZOFFSETFROM:-0500
TZOFFSETTO:-0600
TZNAME:CST
DTSTART:20261101T070000
END:STANDARD
END:VTIMEZONE
BEGIN:VEVENT
DTSTART;VALUE=DATE:20260213
DTEND;VALUE=DATE:20260215
DTSTAMP:20260421T200841
CREATED:20260218T151928Z
LAST-MODIFIED:20260218T151951Z
UID:1173-1770940800-1771113599@heritageparkmuenstertx.com
SUMMARY:RWP Spring Break 2026
DESCRIPTION:
URL:https://heritageparkmuenstertx.com/event/rwp-spring-break-2026/
END:VEVENT
END:VCALENDAR